BEGIN:VCALENDAR
VERSION:2.0
PRODID:-//www.gramonet.cz//GramonetCalLib 1.0//EN
CALSCALE:GREGORIAN
METHOD:PUBLISH
BEGIN:VEVENT
SUMMARY:Galakoncert Marie Rottrová
LOCATION:Kulturní dům Lorec, Kutná Hora
DTSTART:20240717T000000
DTEND:20240718T000000
UID:2026-04-19-19-33-11@infocaslav.cz
DTSTAMP:20260419T173311
Description:Dne 13.10 2024 se koná galakoncert Marie Rottrové od 19:00 ho
 d v kulturním domě Lorec\,
END:VEVENT
END:VCALENDAR
