BEGIN:VCALENDAR
VERSION:2.0
PRODID:-//www.gramonet.cz//GramonetCalLib 1.0//EN
CALSCALE:GREGORIAN
METHOD:PUBLISH
BEGIN:VEVENT
SUMMARY:Game Night - Herní večer
LOCATION:Gumárna, K. Pazderského 2045
DTSTART:20220602T000000
DTEND:20220603T000000
UID:2026-04-19-19-32-04@infocaslav.cz
DTSTAMP:20260419T173204
Description:
END:VEVENT
END:VCALENDAR
