BEGIN:VCALENDAR
VERSION:2.0
PRODID:-//www.gramonet.cz//GramonetCalLib 1.0//EN
CALSCALE:GREGORIAN
METHOD:PUBLISH
BEGIN:VEVENT
SUMMARY:Geologie není nuda aneb co nového v Železných horách
LOCATION:Nová scéna Dusíkova divadla, Čáslav
DTSTART:20250916T000000
DTEND:20250917T000000
UID:2026-04-19-14-30-08@infocaslav.cz
DTSTAMP:20260419T123008
Description:
END:VEVENT
END:VCALENDAR
