BEGIN:VCALENDAR
VERSION:2.0
PRODID:-//www.gramonet.cz//GramonetCalLib 1.0//EN
CALSCALE:GREGORIAN
METHOD:PUBLISH
BEGIN:VEVENT
SUMMARY:Ghost dog - Cesta samuraje
LOCATION:Kino Miloše Formana, Jeníkovská 138/25, 28601
DTSTART:20220713T000000
DTEND:20220714T000000
UID:2026-04-19-21-03-26@infocaslav.cz
DTSTAMP:20260419T190326
Description:
END:VEVENT
END:VCALENDAR
