BEGIN:VCALENDAR
VERSION:2.0
PRODID:-//www.gramonet.cz//GramonetCalLib 1.0//EN
CALSCALE:GREGORIAN
METHOD:PUBLISH
BEGIN:VEVENT
SUMMARY:Grand fest
LOCATION:Hotel Grand Čáslav
DTSTART:20231117T000000
DTEND:20231118T000000
UID:2026-04-19-19-29-15@infocaslav.cz
DTSTAMP:20260419T172915
Description:Už 17.11. od 18 hodin se uskuteční další roční GRAND FES
 TU  v Čáslavi.
END:VEVENT
END:VCALENDAR
