BEGIN:VCALENDAR
VERSION:2.0
PRODID:-//www.gramonet.cz//GramonetCalLib 1.0//EN
CALSCALE:GREGORIAN
METHOD:PUBLISH
BEGIN:VEVENT
SUMMARY:GRAND LIVE – KIDS FESTIVAL 2026
LOCATION:areál Národního zemědělského muzea Čáslav
DTSTART:20260712T000000
DTEND:20260713T000000
UID:2026-04-19-19-28-04@infocaslav.cz
DTSTAMP:20260419T172804
Description:
END:VEVENT
END:VCALENDAR
