BEGIN:VCALENDAR
VERSION:2.0
PRODID:-//www.gramonet.cz//GramonetCalLib 1.0//EN
CALSCALE:GREGORIAN
METHOD:PUBLISH
BEGIN:VEVENT
SUMMARY:GRAND PRIX Středočeského kraje CX
LOCATION:Lesopark Vodranty Čáslav
DTSTART:20241020T000000
DTEND:20241021T000000
UID:2026-04-19-19-36-13@infocaslav.cz
DTSTAMP:20260419T173613
Description:
END:VEVENT
END:VCALENDAR
