BEGIN:VCALENDAR
VERSION:2.0
PRODID:-//www.gramonet.cz//GramonetCalLib 1.0//EN
CALSCALE:GREGORIAN
METHOD:PUBLISH
BEGIN:VEVENT
SUMMARY:Grandfest
LOCATION:hotel Grand
DTSTART:20221118T000000
DTEND:20221119T000000
UID:2026-04-19-19-29-42@infocaslav.cz
DTSTAMP:20260419T172942
Description:
END:VEVENT
END:VCALENDAR
