BEGIN:VCALENDAR
VERSION:2.0
PRODID:-//www.gramonet.cz//GramonetCalLib 1.0//EN
CALSCALE:GREGORIAN
METHOD:PUBLISH
BEGIN:VEVENT
SUMMARY:Grandfest
LOCATION:společenský sál Grand Čáslav
DTSTART:20211119T000000
DTEND:20211120T000000
UID:2026-04-19-21-01-19@infocaslav.cz
DTSTAMP:20260419T190119
Description:
END:VEVENT
END:VCALENDAR
