BEGIN:VCALENDAR
VERSION:2.0
PRODID:-//www.gramonet.cz//GramonetCalLib 1.0//EN
CALSCALE:GREGORIAN
METHOD:PUBLISH
BEGIN:VEVENT
SUMMARY:Halloween
LOCATION:Stadion pod Hrádkem
DTSTART:20241031T000000
DTEND:20241101T000000
UID:2026-04-19-20-57-36@infocaslav.cz
DTSTAMP:20260419T185736
Description:
END:VEVENT
END:VCALENDAR
