BEGIN:VCALENDAR
VERSION:2.0
PRODID:-//www.gramonet.cz//GramonetCalLib 1.0//EN
CALSCALE:GREGORIAN
METHOD:PUBLISH
BEGIN:VEVENT
SUMMARY:Halloween Horor -  Kino Pod Hvězdami
LOCATION:Vinaře staré hříště
DTSTART:20241102T000000
DTEND:20241103T000000
UID:2026-04-19-19-36-25@infocaslav.cz
DTSTAMP:20260419T173625
Description:
END:VEVENT
END:VCALENDAR
