BEGIN:VCALENDAR
VERSION:2.0
PRODID:-//www.gramonet.cz//GramonetCalLib 1.0//EN
CALSCALE:GREGORIAN
METHOD:PUBLISH
BEGIN:VEVENT
SUMMARY:Halloween končí
LOCATION:Kino
DTSTART:20221112T000000
DTEND:20221113T000000
UID:2026-04-19-19-30-51@infocaslav.cz
DTSTAMP:20260419T173051
Description:
END:VEVENT
END:VCALENDAR
