BEGIN:VCALENDAR
VERSION:2.0
PRODID:-//www.gramonet.cz//GramonetCalLib 1.0//EN
CALSCALE:GREGORIAN
METHOD:PUBLISH
BEGIN:VEVENT
SUMMARY:Halloween končí
LOCATION:Kino
DTSTART:20221104T000000
DTEND:20221105T000000
UID:2026-04-19-19-30-05@infocaslav.cz
DTSTAMP:20260419T173005
Description:
END:VEVENT
END:VCALENDAR
