BEGIN:VCALENDAR
VERSION:2.0
PRODID:-//www.gramonet.cz//GramonetCalLib 1.0//EN
CALSCALE:GREGORIAN
METHOD:PUBLISH
BEGIN:VEVENT
SUMMARY:Halloween pro děti
LOCATION:Hotel Grand Čáslav
DTSTART:20231015T000000
DTEND:20231016T000000
UID:2026-04-19-21-03-25@infocaslav.cz
DTSTAMP:20260419T190325
Description:Rádi bychom Vás pozvali dne 15.10.2023 od 14:00 na dětskou h
 alloweenskou diskotéku do Grand hotelu v Čáslavi.
END:VEVENT
END:VCALENDAR
