BEGIN:VCALENDAR
VERSION:2.0
PRODID:-//www.gramonet.cz//GramonetCalLib 1.0//EN
CALSCALE:GREGORIAN
METHOD:PUBLISH
BEGIN:VEVENT
SUMMARY:Halloweenská neděle v Kině Miloše Formana
LOCATION:Kino Miloše Formana Čáslav
DTSTART:20241103T000000
DTEND:20241104T000000
UID:2026-04-19-19-36-11@infocaslav.cz
DTSTAMP:20260419T173611
Description:
END:VEVENT
END:VCALENDAR
