BEGIN:VCALENDAR
VERSION:2.0
PRODID:-//www.gramonet.cz//GramonetCalLib 1.0//EN
CALSCALE:GREGORIAN
METHOD:PUBLISH
BEGIN:VEVENT
SUMMARY:HC Čáslav	HC Spartak Žebrák
LOCATION:Na Bělišti 2028
DTSTART:20220206T000000
DTEND:20220207T000000
UID:2026-04-19-19-36-06@infocaslav.cz
DTSTAMP:20260419T173606
Description:
END:VEVENT
END:VCALENDAR
