BEGIN:VCALENDAR
VERSION:2.0
PRODID:-//www.gramonet.cz//GramonetCalLib 1.0//EN
CALSCALE:GREGORIAN
METHOD:PUBLISH
BEGIN:VEVENT
SUMMARY:HC Čáslav	SC Kolín B
LOCATION:Na Bělišti 2028
DTSTART:20220123T000000
DTEND:20220124T000000
UID:2026-04-19-19-32-03@infocaslav.cz
DTSTAMP:20260419T173203
Description:
END:VEVENT
END:VCALENDAR
