BEGIN:VCALENDAR
VERSION:2.0
PRODID:-//www.gramonet.cz//GramonetCalLib 1.0//EN
CALSCALE:GREGORIAN
METHOD:PUBLISH
BEGIN:VEVENT
SUMMARY:Hierofanie
LOCATION:Výstavní síň Čáslav
DTSTART:20240906T000000
DTEND:20241007T000000
UID:2026-04-19-19-29-24@infocaslav.cz
DTSTAMP:20260419T172924
Description:Spolek Třiatřicet si Vás dovoluje pozvat na vernisáž výst
 avy. Výstava probíhá od 6. září do 6. října \, úterý až neděle
  od 10-12 / 14-17.
END:VEVENT
END:VCALENDAR
