BEGIN:VCALENDAR
VERSION:2.0
PRODID:-//www.gramonet.cz//GramonetCalLib 1.0//EN
CALSCALE:GREGORIAN
METHOD:PUBLISH
BEGIN:VEVENT
SUMMARY:Rytíři na Lichnici
LOCATION:Zřícenina hradu Lichnice
DTSTART:20240615T000000
DTEND:20240616T000000
UID:2026-04-19-19-34-00@infocaslav.cz
DTSTAMP:20260419T173400
Description:
END:VEVENT
END:VCALENDAR
