BEGIN:VCALENDAR
VERSION:2.0
PRODID:-//www.gramonet.cz//GramonetCalLib 1.0//EN
CALSCALE:GREGORIAN
METHOD:PUBLISH
BEGIN:VEVENT
SUMMARY:Horkýže Slíže & COCOTTE MINUTE
LOCATION:Hotel Grand
DTSTART:20251121T000000
DTEND:20251122T000000
UID:2026-04-19-19-33-29@infocaslav.cz
DTSTAMP:20260419T173329
Description:Připravte se na večer plný energie\, humoru a pořádného r
 ockového nářezu!\nHorkýže Slíže a Cocotte Minute se vrací na pódi
 a a v rámci podzimní tour 2025 dorazí i do Čáslavi.\nBude to hlasité
 \, bude to divoké – a vy u toho nesmíte chybět!
END:VEVENT
END:VCALENDAR
