BEGIN:VCALENDAR
VERSION:2.0
PRODID:-//www.gramonet.cz//GramonetCalLib 1.0//EN
CALSCALE:GREGORIAN
METHOD:PUBLISH
BEGIN:VEVENT
SUMMARY:HOSPODÁŘSKÉ DRUŽSTVO SKLADIŠTNÍ
LOCATION:Divadlo
DTSTART:20230620T000000
DTEND:20230621T000000
UID:2026-04-19-21-21-35@infocaslav.cz
DTSTAMP:20260419T192135
Description:
END:VEVENT
END:VCALENDAR
