BEGIN:VCALENDAR
VERSION:2.0
PRODID:-//www.gramonet.cz//GramonetCalLib 1.0//EN
CALSCALE:GREGORIAN
METHOD:PUBLISH
BEGIN:VEVENT
SUMMARY:Hraní mezi stránkami - Štědrý kluk
LOCATION:Městská knihovna Čáslav, Kostelní nám. 197
DTSTART:20251208T000000
DTEND:20251209T000000
UID:2026-04-19-19-35-16@infocaslav.cz
DTSTAMP:20260419T173516
Description:
END:VEVENT
END:VCALENDAR
