BEGIN:VCALENDAR
VERSION:2.0
PRODID:-//www.gramonet.cz//GramonetCalLib 1.0//EN
CALSCALE:GREGORIAN
METHOD:PUBLISH
BEGIN:VEVENT
SUMMARY:Hranice odvahy
LOCATION:Kino Miloše Formana, Jeníkovská 138, Nové Město, 286 01 Čás
 lav
DTSTART:20220325T000000
DTEND:20220326T000000
UID:2026-04-19-21-03-21@infocaslav.cz
DTSTAMP:20260419T190321
Description:
END:VEVENT
END:VCALENDAR
