BEGIN:VCALENDAR
VERSION:2.0
PRODID:-//www.gramonet.cz//GramonetCalLib 1.0//EN
CALSCALE:GREGORIAN
METHOD:PUBLISH
BEGIN:VEVENT
SUMMARY:Hravé odpoledne
LOCATION:Hřiště za sokolovnou
DTSTART:20240621T000000
DTEND:20240622T000000
UID:2026-04-19-19-31-00@infocaslav.cz
DTSTAMP:20260419T173100
Description:TJ Sokol Čáslav srdečně zve své členy i veřejnost na hra
 vé odpoledne.\nPotkáme se dne 21. června od 16 hodin na hřišti za sok
 olovnou.
END:VEVENT
END:VCALENDAR
