BEGIN:VCALENDAR
VERSION:2.0
PRODID:-//www.gramonet.cz//GramonetCalLib 1.0//EN
CALSCALE:GREGORIAN
METHOD:PUBLISH
BEGIN:VEVENT
SUMMARY:Hudba na dlani
LOCATION:Ronov nad Doubravou
DTSTART:20240727T000000
DTEND:20240728T000000
UID:2026-04-19-21-04-07@infocaslav.cz
DTSTAMP:20260419T190407
Description:Začátek akce je v 18.00 v Ronově nad Doubravou na náměstí
 \,vstup zdarma.
END:VEVENT
END:VCALENDAR
