BEGIN:VCALENDAR
VERSION:2.0
PRODID:-//www.gramonet.cz//GramonetCalLib 1.0//EN
CALSCALE:GREGORIAN
METHOD:PUBLISH
BEGIN:VEVENT
SUMMARY:Hudba v obraze - výstava
LOCATION:Galerie Třemošnice
DTSTART:20240514T000000
DTEND:20240601T000000
UID:2026-04-19-19-33-27@infocaslav.cz
DTSTAMP:20260419T173327
Description:
END:VEVENT
END:VCALENDAR
