BEGIN:VCALENDAR
VERSION:2.0
PRODID:-//www.gramonet.cz//GramonetCalLib 1.0//EN
CALSCALE:GREGORIAN
METHOD:PUBLISH
BEGIN:VEVENT
SUMMARY:Hudební festival nejen terezínských skladatelů Věčná naděje
  23
LOCATION:synagoga Čáslav
DTSTART:20231112T000000
DTEND:20231113T000000
UID:2026-04-19-19-37-17@infocaslav.cz
DTSTAMP:20260419T173717
Description:
END:VEVENT
END:VCALENDAR
