BEGIN:VCALENDAR
VERSION:2.0
PRODID:-//www.gramonet.cz//GramonetCalLib 1.0//EN
CALSCALE:GREGORIAN
METHOD:PUBLISH
BEGIN:VEVENT
SUMMARY:Irena Armutidisová a Pavel Skrott, výstava - sochy a grafiky
LOCATION:KlubuGumárna, Pazderského 2045, Čáslav,
DTSTART:20220129T000000
DTEND:20220509T000000
UID:2026-04-19-19-37-28@infocaslav.cz
DTSTAMP:20260419T173728
Description:
END:VEVENT
END:VCALENDAR
