BEGIN:VCALENDAR
VERSION:2.0
PRODID:-//www.gramonet.cz//GramonetCalLib 1.0//EN
CALSCALE:GREGORIAN
METHOD:PUBLISH
BEGIN:VEVENT
SUMMARY:Irena Dousková, autorské čtení a beseda
LOCATION:Klub Gumárna Bar K. Pazderského 2045, 28601 Čáslav-Nové Měst
 o, Česko
DTSTART:20220209T000000
DTEND:20220210T000000
UID:2026-04-19-19-36-42@infocaslav.cz
DTSTAMP:20260419T173642
Description:Beseda\, začátek 18:30
END:VEVENT
END:VCALENDAR
