BEGIN:VCALENDAR
VERSION:2.0
PRODID:-//www.gramonet.cz//GramonetCalLib 1.0//EN
CALSCALE:GREGORIAN
METHOD:PUBLISH
BEGIN:VEVENT
SUMMARY:ISOLE / CIRK La Putyka
LOCATION:Dusíkovo divadlo Čáslav, Masarykova 194/36
DTSTART:20220322T000000
DTEND:20220323T000000
UID:2026-04-19-20-58-40@infocaslav.cz
DTSTAMP:20260419T185840
Description:
END:VEVENT
END:VCALENDAR
