BEGIN:VCALENDAR
VERSION:2.0
PRODID:-//www.gramonet.cz//GramonetCalLib 1.0//EN
CALSCALE:GREGORIAN
METHOD:PUBLISH
BEGIN:VEVENT
SUMMARY:IVO ŠMOLDAS – „O VŠEM, OVŠEM ZEJMÉNA O NIČEM“
LOCATION:Dusíkovo divadlo Čáslav, Masarykova 194/36
DTSTART:20220206T000000
DTEND:20220207T000000
UID:2026-04-19-21-11-26@infocaslav.cz
DTSTAMP:20260419T191126
Description:
END:VEVENT
END:VCALENDAR
