BEGIN:VCALENDAR
VERSION:2.0
PRODID:-//www.gramonet.cz//GramonetCalLib 1.0//EN
CALSCALE:GREGORIAN
METHOD:PUBLISH
BEGIN:VEVENT
SUMMARY:Jak poznat a podpořit nadané dítě
LOCATION:Nová scéna Dusíkova divadla Čáslav
DTSTART:20250604T000000
DTEND:20250605T000000
UID:2026-04-19-21-24-08@infocaslav.cz
DTSTAMP:20260419T192408
Description:
END:VEVENT
END:VCALENDAR
