BEGIN:VCALENDAR
VERSION:2.0
PRODID:-//www.gramonet.cz//GramonetCalLib 1.0//EN
CALSCALE:GREGORIAN
METHOD:PUBLISH
BEGIN:VEVENT
SUMMARY:Jak se tvoří grafity
LOCATION:Národní zemědělské muzeum Čáslav, Jeníkovská 1762
DTSTART:20220424T000000
DTEND:20220425T000000
UID:2026-04-19-19-34-48@infocaslav.cz
DTSTAMP:20260419T173448
Description:
END:VEVENT
END:VCALENDAR
