BEGIN:VCALENDAR
VERSION:2.0
PRODID:-//www.gramonet.cz//GramonetCalLib 1.0//EN
CALSCALE:GREGORIAN
METHOD:PUBLISH
BEGIN:VEVENT
SUMMARY:Jak se (z)orientovat v digitálním prostoru II
LOCATION:Rodinné centrum Kopretina Čáslav
DTSTART:20241024T000000
DTEND:20241025T000000
UID:2026-04-19-21-07-17@infocaslav.cz
DTSTAMP:20260419T190717
Description:
END:VEVENT
END:VCALENDAR
