BEGIN:VCALENDAR
VERSION:2.0
PRODID:-//www.gramonet.cz//GramonetCalLib 1.0//EN
CALSCALE:GREGORIAN
METHOD:PUBLISH
BEGIN:VEVENT
SUMMARY:Jan Blažej Santini–Aichel: Architektura a hudba
LOCATION:Nová scéna Dusíkova divadla
DTSTART:20231212T000000
DTEND:20231213T000000
UID:2026-04-19-19-37-31@infocaslav.cz
DTSTAMP:20260419T173731
Description:
END:VEVENT
END:VCALENDAR
