BEGIN:VCALENDAR
VERSION:2.0
PRODID:-//www.gramonet.cz//GramonetCalLib 1.0//EN
CALSCALE:GREGORIAN
METHOD:PUBLISH
BEGIN:VEVENT
SUMMARY:Mý pole, louky, strouhy - JAN HULA / OBRAZY
LOCATION:Výstavní síň, náměstí J. Žižky z Trocnova
DTSTART:20250505T000000
DTEND:20250602T000000
UID:2026-04-19-19-36-22@infocaslav.cz
DTSTAMP:20260419T173622
Description:
END:VEVENT
END:VCALENDAR
