BEGIN:VCALENDAR
VERSION:2.0
PRODID:-//www.gramonet.cz//GramonetCalLib 1.0//EN
CALSCALE:GREGORIAN
METHOD:PUBLISH
BEGIN:VEVENT
SUMMARY:Jan Kovářík Permutace částic forem mycelia
LOCATION:Výstavní síň městského muzea Čáslav
DTSTART:20250905T000000
DTEND:20251022T000000
UID:2026-04-19-19-26-36@infocaslav.cz
DTSTAMP:20260419T172636
Description:
END:VEVENT
END:VCALENDAR
