BEGIN:VCALENDAR
VERSION:2.0
PRODID:-//www.gramonet.cz//GramonetCalLib 1.0//EN
CALSCALE:GREGORIAN
METHOD:PUBLISH
BEGIN:VEVENT
SUMMARY:Jan Roháč z Dubé a počátky hradu Sion pohledem historie
LOCATION:Nová scéna Dusíkova divadla Čáslav
DTSTART:20250218T000000
DTEND:20250219T000000
UID:2026-04-19-19-37-23@infocaslav.cz
DTSTAMP:20260419T173723
Description:
END:VEVENT
END:VCALENDAR
