BEGIN:VCALENDAR
VERSION:2.0
PRODID:-//www.gramonet.cz//GramonetCalLib 1.0//EN
CALSCALE:GREGORIAN
METHOD:PUBLISH
BEGIN:VEVENT
SUMMARY:Jana Bauerová – koncert autorské tvorby za doprovodu keltské h
 arfy
LOCATION:Dusíkovo divadlo Čáslav
DTSTART:20250312T000000
DTEND:20250313T000000
UID:2026-04-19-19-37-17@infocaslav.cz
DTSTAMP:20260419T173717
Description:
END:VEVENT
END:VCALENDAR
