BEGIN:VCALENDAR
VERSION:2.0
PRODID:-//www.gramonet.cz//GramonetCalLib 1.0//EN
CALSCALE:GREGORIAN
METHOD:PUBLISH
BEGIN:VEVENT
SUMMARY:Jarní kokedama
LOCATION:budova Městského muzea Čáslav
DTSTART:20260327T000000
DTEND:20260328T000000
UID:2026-04-19-19-26-15@infocaslav.cz
DTSTAMP:20260419T172615
Description:
END:VEVENT
END:VCALENDAR
