BEGIN:VCALENDAR
VERSION:2.0
PRODID:-//www.gramonet.cz//GramonetCalLib 1.0//EN
CALSCALE:GREGORIAN
METHOD:PUBLISH
BEGIN:VEVENT
SUMMARY:Jarní koncert orchestru Harmonie 1872 Kolín
LOCATION:Dusíkovo divadlo Čáslav
DTSTART:20260326T000000
DTEND:20260327T000000
UID:2026-04-19-19-26-54@infocaslav.cz
DTSTAMP:20260419T172654
Description:
END:VEVENT
END:VCALENDAR
