BEGIN:VCALENDAR
VERSION:2.0
PRODID:-//www.gramonet.cz//GramonetCalLib 1.0//EN
CALSCALE:GREGORIAN
METHOD:PUBLISH
BEGIN:VEVENT
SUMMARY:JARNÍ KONCERT s Frantou Uhrem
LOCATION:Dusíkovo divadlo Čáslav, Masarykova 194/36
DTSTART:20220403T000000
DTEND:20220404T000000
UID:2026-04-19-21-07-11@infocaslav.cz
DTSTAMP:20260419T190711
Description:
END:VEVENT
END:VCALENDAR
