BEGIN:VCALENDAR
VERSION:2.0
PRODID:-//www.gramonet.cz//GramonetCalLib 1.0//EN
CALSCALE:GREGORIAN
METHOD:PUBLISH
BEGIN:VEVENT
SUMMARY:Jarní koncert Věnovanky s Jiřím Helánem a jeho cimbálem
LOCATION:Dusíkovo divadlo
DTSTART:20240421T000000
DTEND:20240422T000000
UID:2026-04-19-19-37-26@infocaslav.cz
DTSTAMP:20260419T173726
Description:
END:VEVENT
END:VCALENDAR
