BEGIN:VCALENDAR
VERSION:2.0
PRODID:-//www.gramonet.cz//GramonetCalLib 1.0//EN
CALSCALE:GREGORIAN
METHOD:PUBLISH
BEGIN:VEVENT
SUMMARY:Jarní Swap
LOCATION:Kluky u Kutné Hory na fotbalovém hříšti
DTSTART:20250504T000000
DTEND:20250505T000000
UID:2026-04-19-21-03-20@infocaslav.cz
DTSTAMP:20260419T190320
Description:
END:VEVENT
END:VCALENDAR
