BEGIN:VCALENDAR
VERSION:2.0
PRODID:-//www.gramonet.cz//GramonetCalLib 1.0//EN
CALSCALE:GREGORIAN
METHOD:PUBLISH
BEGIN:VEVENT
SUMMARY:Jaroslav Dušek: Čtyři dohody
LOCATION:Dusíkovo divadlo Čáslav
DTSTART:20250319T000000
DTEND:20250320T000000
UID:2026-04-19-19-34-15@infocaslav.cz
DTSTAMP:20260419T173415
Description:
END:VEVENT
END:VCALENDAR
