BEGIN:VCALENDAR
VERSION:2.0
PRODID:-//www.gramonet.cz//GramonetCalLib 1.0//EN
CALSCALE:GREGORIAN
METHOD:PUBLISH
BEGIN:VEVENT
SUMMARY:Jean Poiret – VESELÉ VELIKONOCE
LOCATION:Dusíkovo divadlo Čáslav, Masarykova 194/36
DTSTART:20220426T000000
DTEND:20220427T000000
UID:2026-04-19-19-35-55@infocaslav.cz
DTSTAMP:20260419T173555
Description:
END:VEVENT
END:VCALENDAR
