BEGIN:VCALENDAR
VERSION:2.0
PRODID:-//www.gramonet.cz//GramonetCalLib 1.0//EN
CALSCALE:GREGORIAN
METHOD:PUBLISH
BEGIN:VEVENT
SUMMARY:Jede, jede poštovský panáček
LOCATION:Městské muzeum Čáslav
DTSTART:20260328T000000
DTEND:20261101T000000
UID:2026-04-19-19-26-11@infocaslav.cz
DTSTAMP:20260419T172611
Description:
END:VEVENT
END:VCALENDAR
