BEGIN:VCALENDAR
VERSION:2.0
PRODID:-//www.gramonet.cz//GramonetCalLib 1.0//EN
CALSCALE:GREGORIAN
METHOD:PUBLISH
BEGIN:VEVENT
SUMMARY:JEDINEČNÍ - Antonín Panenka - setkání s osobnostmi
LOCATION:Dusíkovo divadlo - Nová scéna
DTSTART:20241114T000000
DTEND:20241115T000000
UID:2026-04-19-21-08-34@infocaslav.cz
DTSTAMP:20260419T190834
Description:
END:VEVENT
END:VCALENDAR
