BEGIN:VCALENDAR
VERSION:2.0
PRODID:-//www.gramonet.cz//GramonetCalLib 1.0//EN
CALSCALE:GREGORIAN
METHOD:PUBLISH
BEGIN:VEVENT
SUMMARY:JEDINEČNÍ - Kateřina Neumannová - setkání s osobnostmi
LOCATION:Dusíkovo divadlo - Nová scéna
DTSTART:20241017T000000
DTEND:20241018T000000
UID:2026-04-19-19-37-25@infocaslav.cz
DTSTAMP:20260419T173725
Description:
END:VEVENT
END:VCALENDAR
