BEGIN:VCALENDAR
VERSION:2.0
PRODID:-//www.gramonet.cz//GramonetCalLib 1.0//EN
CALSCALE:GREGORIAN
METHOD:PUBLISH
BEGIN:VEVENT
SUMMARY:Jen pravdu drahý
LOCATION:Dusíkovo divadlo Čáslav
DTSTART:20260303T000000
DTEND:20260304T000000
UID:2026-04-19-19-26-20@infocaslav.cz
DTSTAMP:20260419T172620
Description:
END:VEVENT
END:VCALENDAR
